BEGIN:VCALENDAR
VERSION:2.0
PRODID:-//Tukios.com/
BEGIN:VEVENT
UID:1efea663-32f2-4504-9b61-5c52abbaf113@www.geojcarroll.com
DTSTAMP:20260423T022829Z
DTSTART:20260423T170000Z
DTEND:20260423T183000Z
SUMMARY:Visitation
DESCRIPTION:
URL:https://www.geojcarroll.com/obituaries/ana-carter
LOCATION: 602 Lindsay St  Gainesville TX 76240
GEO:33.619721;-97.1405762
END:VEVENT
END:VCALENDAR