BEGIN:VCALENDAR
VERSION:2.0
PRODID:-//Tukios.com/
BEGIN:VEVENT
UID:e3e3e044-9fd7-4064-90d8-3260db216acd@www.geojcarroll.com
DTSTAMP:20260423T022654Z
DTSTART:20260423T190000Z
DTEND:20260423T200000Z
SUMMARY:Graveside Service
DESCRIPTION:
URL:https://www.geojcarroll.com/obituaries/ana-carter
LOCATION:    Whitesboro TX 76273
GEO:33.6333618;-97.0096943
END:VEVENT
END:VCALENDAR