BEGIN:VCALENDAR
VERSION:2.0
PRODID:-//Tukios.com/
BEGIN:VEVENT
UID:815f1154-3a20-42a6-b930-21304d5ae3da@www.geojcarroll.com
DTSTAMP:20260423T002712Z
DTSTART:20260427T230000Z
DTEND:20260428T010000Z
SUMMARY:Visitation
DESCRIPTION:
URL:https://www.geojcarroll.com/obituaries/ida-haley
LOCATION:Geo. J. Carroll & Son Funeral Home 602 Lindsay Street  
	Gainesville TX 76240
GEO:33.6197436;-97.1406086
END:VEVENT
END:VCALENDAR