BEGIN:VCALENDAR
VERSION:2.0
PRODID:-//Tukios.com/
BEGIN:VEVENT
UID:cee3808a-1e14-4690-97d4-83fff29f63f4@www.geojcarroll.com
DTSTAMP:20260423T002835Z
DTSTART:20260428T150000Z
DTEND:20260428T160000Z
SUMMARY:Funeral Service
DESCRIPTION:
URL:https://www.geojcarroll.com/obituaries/ida-haley
LOCATION:Geo. J. Carroll & Son Funeral Home 602 Lindsay Street  
	Gainesville TX 76240
GEO:33.6197436;-97.1406086
END:VEVENT
END:VCALENDAR